BEGIN:VCALENDAR
VERSION:2.0
PRODID:-//ACP-EU Development Minerals Programme - ECPv6.11.2.1//NONSGML v1.0//EN
CALSCALE:GREGORIAN
METHOD:PUBLISH
X-WR-CALNAME:ACP-EU Development Minerals Programme
X-ORIGINAL-URL:https://developmentminerals.org
X-WR-CALDESC:Events for ACP-EU Development Minerals Programme
REFRESH-INTERVAL;VALUE=DURATION:PT1H
X-Robots-Tag:noindex
X-PUBLISHED-TTL:PT1H
BEGIN:VTIMEZONE
TZID:UTC
BEGIN:STANDARD
TZOFFSETFROM:+0000
TZOFFSETTO:+0000
TZNAME:UTC
DTSTART:20240101T000000
END:STANDARD
END:VTIMEZONE
BEGIN:VEVENT
DTSTART;VALUE=DATE:20250120
DTEND;VALUE=DATE:20250121
DTSTAMP:20260425T235336
CREATED:20260305T142540Z
LAST-MODIFIED:20260415T123523Z
UID:10000051-1737331200-1737417599@developmentminerals.org
SUMMARY:Tools and Equipment for Better Safety and Productivity of Women Artisanal Miners
DESCRIPTION:[vc_row][vc_column][uncode_custom_fields post_type=”tribe_venue” field_elements=”value”][vc_column_text]Small grants were provided to targeted groups such as women stone crushers\, artisanal miners working in the Kombé quarries\, and potters living with disabilities. More than 1\,800 pieces of tools and equipment were distributed\, including wheelbarrows\, rakes\, gloves\, sledgehammers\, pickaxes\, and tricycles for transportation. These small grants complemented the technical and entrepreneurial skills trainings provided by the Programme.  \nHandover of tools and equipment to artisanal and small-scale miners by the EU Ambassador to the Republic of Congo\nThese essential tools and equipment enabled artisanal mining groups to improve their productivity\, safety\, and working conditions at mining sites and workshops. Access to appropriate equipment helped make their work more efficient and reduced some of the physical challenges associated with artisanal mining activities.  \nBeyond the equipment support\, the initiative also promoted the organization of women into cooperatives. This helped strengthen their management capacities\, improve their independence\, and reinforce their economic position within the sector\, contributing to the reduction of gender inequalities in mining.  \nUsing a participatory field-based approach\, the Programme first identified the real needs of the groups directly on site and then distributed appropriate tools and equipment. This approach ensured that the support provided was practical\, relevant\, and aligned with the long-term sustainability of artisanal mining activities. [/vc_column_text][/vc_column][/vc_row]
URL:https://developmentminerals.org/event/tools-and-equipment-for-better-safety-and-productivity-of-women-artisanal-miners/
LOCATION:Brazzaville\, Republic of Congo
CATEGORIES:Republic of Congo
ATTACH;FMTTYPE=image/png:https://developmentminerals.org/wp-content/uploads/2026/03/4-1.png
END:VEVENT
BEGIN:VEVENT
DTSTART;VALUE=DATE:20241002
DTEND;VALUE=DATE:20241004
DTSTAMP:20260425T235336
CREATED:20260305T141716Z
LAST-MODIFIED:20260305T142026Z
UID:10000049-1727827200-1727999999@developmentminerals.org
SUMMARY:Awareness-Raising Workshop on Formalization of Artisanal and Small-Scale Mining (ASM)
DESCRIPTION:[vc_row][vc_column][uncode_custom_fields post_type=”tribe_venue” field_elements=”value”][vc_column_text]The Programme raised awareness and trained artisanal and small-scale mining (ASM) cooperatives on the formalization process in the Republic of Congo. These activities aimed to support the structuring of artisanal mining operations and promote practices that are more legal\, safer\, and environmentally sustainable.  \nThe awareness-raising workshop provided information on the benefits of formalization and explained the administrative and legal procedures required for cooperatives to formalize their activities. It also introduced participants to responsible mining practices and discussed opportunities to improve access to finance and markets for artisanal miners.  \nParticipants take part in an awareness session on the formalization of artisanal and small-scale mining enterprises\nThe workshop combined coaching sessions\, hands-on training\, and practical exercises to strengthen participants’ understanding of these topics. In total\, twenty-five artisanal and small-scale mining cooperatives participated in the training and benefited from the learning sessions.  \nAs a result\, participants improved their understanding of the formalization process and workplace safety. This contributes to the promotion of responsible mining practices and supports improved legal compliance among ASM operators in the Development Minerals sector.  \n [/vc_column_text][/vc_column][/vc_row]
URL:https://developmentminerals.org/event/awareness-raising-workshop-on-formalization-of-artisanal-and-small-scale-mining-asm/
LOCATION:Brazzaville\, Republic of Congo
CATEGORIES:Republic of Congo
ATTACH;FMTTYPE=image/png:https://developmentminerals.org/wp-content/uploads/2026/03/2-3.png
END:VEVENT
BEGIN:VEVENT
DTSTART;VALUE=DATE:20240710
DTEND;VALUE=DATE:20260306
DTSTAMP:20260425T235336
CREATED:20260305T142320Z
LAST-MODIFIED:20260305T142320Z
UID:10000050-1720569600-1772755199@developmentminerals.org
SUMMARY:Training on Business Development for Small-Scale Mining
DESCRIPTION:[vc_row][vc_column][uncode_custom_fields post_type=”tribe_venue” field_elements=”value”][vc_column_text]In October 2024\, the ACP-EU Development Minerals Programme conducted a training in Brazzaville for artisanal and small-scale miners. The training aimed to strengthen participants’ entrepreneurial and management skills\, introduce business planning as a practical decision-making tool\, and promote more inclusive and sustainable mining practices.  \nParticipants take part in a training on business development and business planning\nThe workshop provided participants with knowledge on key aspects of managing and developing small-scale mining enterprises. Sessions addressed topics such as business planning\, access to finance\, marketing strategies\, the creation and management of business entities and cooperatives\, as well as basic accounting principles necessary for running a mining-related business.  \nThe training was supported by practical case studies and interactive discussions that encouraged peer learning and the exchange of experiences among participants. These exchanges helped identify practical solutions and led to recommendations for improving the management and performance of small-scale mining enterprises.  \nAs a result\, participants gained practical knowledge and skills to better organize\, formalize\, and sustain their mining activities. This contributes to improving the productivity and income-generating potential of artisanal and small-scale mining businesses.  \n [/vc_column_text][/vc_column][/vc_row]
URL:https://developmentminerals.org/event/training-on-business-development-for-small-scale-mining/
LOCATION:Brazzaville\, Republic of Congo
CATEGORIES:Republic of Congo
ATTACH;FMTTYPE=image/png:https://developmentminerals.org/wp-content/uploads/2026/03/3-3.png
END:VEVENT
BEGIN:VEVENT
DTSTART;VALUE=DATE:20240705
DTEND;VALUE=DATE:20240820
DTSTAMP:20260425T235336
CREATED:20260305T140530Z
LAST-MODIFIED:20260305T140945Z
UID:10000048-1720137600-1724111999@developmentminerals.org
SUMMARY:Data collection for the Baseline Study on Development Minerals in the Republic of Congo
DESCRIPTION:[vc_row][vc_column][uncode_custom_fields post_type=”tribe_venue” field_elements=”value”][vc_column_text]Between 5 July and 19 August 2024\, field data collection activities were conducted in the Republic of Congo\, as part of the Baseline Study on Development Minerals.   \nThe lack of data on the Development Minerals and ASM sector is a major challenge in Congo. These field data collection activities consisted of gathering qualitative and quantitative information on the artisanal and small-scale mining sector to inform the programme’s baseline analysis.  \nField data collection with an artisanal and small-scale miner\nThe activities were conducted in six Departments\, including Brazzaville\, Pointe-Noire\, Kouilou\, Bouenza\, Cuvette and Cuvette Ouest and covered Development Minerals such as sandstone\, sand\, gravel\, clay\, granite\, as well as river beds and subsoil gravels.  \nThe data collection focused on:  \n\nMinerals mined and mining sites\nProfiles of ASM miners\, organization and formalization \nMining practices and environment impacts \nMarket dynamics and value-chains \n\nAs a result\, the activity provided field data to inform the baseline study as well as a comprehensive assessment of the Development Minerals sector\, highlighting current dynamics and key factors and challenges for the development of the sector. [/vc_column_text][/vc_column][/vc_row]
URL:https://developmentminerals.org/event/data-collection-for-the-baseline-study-on-development-minerals-in-the-republic-of-congo/
LOCATION:Brazzaville\, Republic of Congo
CATEGORIES:Republic of Congo
ATTACH;FMTTYPE=image/png:https://developmentminerals.org/wp-content/uploads/2026/03/1-3.png
END:VEVENT
BEGIN:VEVENT
DTSTART;VALUE=DATE:20240125
DTEND;VALUE=DATE:20240126
DTSTAMP:20260425T235336
CREATED:20260305T142910Z
LAST-MODIFIED:20260305T142937Z
UID:10000052-1706140800-1706227199@developmentminerals.org
SUMMARY:Training on Formalization\, Environment\, Health and Safety
DESCRIPTION:[vc_row][vc_column][uncode_custom_fields post_type=”tribe_venue” field_elements=”value”][vc_column_text]The Programme conducted training on value-addition\, eco-construction and sustainable artisanal mining\, helping strengthen the skills of artisanal and small-scale miners\, particularly those working with earth materials such as laterite and clay.  \nParticipants at the training on value addition\, eco-construction\, and sustainable artisanal mining\, held during the Technical Session on Formalization\, Environment\, Health and Safety.\nThe training focused on value addition\, eco-construction techniques\, formalization of enterprises\, as well as environmental protection\, health\, and safety throughout the mining cycle.   \nThe training was organized by the ACP-EU Development Minerals Programme in partnership with the Ministry of Mines. It brought together 52 people\, including miners and ASM organisations\, mineral sector stakeholders.  \nParticipants gained practical skills to produce suitable local building materials\, reduce environmental impacts\, and better manage health and safety risks. The sessions combined technical presentations\, practical exercises\, and interactive discussions\, helping participants apply safer\, more sustainable\, and better-organized mining practices.  \n [/vc_column_text][/vc_column][/vc_row]
URL:https://developmentminerals.org/event/training-on-formalization-environment-health-and-safety/
LOCATION:Brazzaville\, Republic of Congo
CATEGORIES:Republic of Congo
ATTACH;FMTTYPE=image/png:https://developmentminerals.org/wp-content/uploads/2026/03/5-1.png
END:VEVENT
END:VCALENDAR