BEGIN:VCALENDAR
VERSION:2.0
PRODID:-//ACP-EU Development Minerals Programme - ECPv6.11.2.1//NONSGML v1.0//EN
CALSCALE:GREGORIAN
METHOD:PUBLISH
X-ORIGINAL-URL:https://developmentminerals.org
X-WR-CALDESC:Events for ACP-EU Development Minerals Programme
REFRESH-INTERVAL;VALUE=DURATION:PT1H
X-Robots-Tag:noindex
X-PUBLISHED-TTL:PT1H
BEGIN:VTIMEZONE
TZID:UTC
BEGIN:STANDARD
TZOFFSETFROM:+0000
TZOFFSETTO:+0000
TZNAME:UTC
DTSTART:20240101T000000
END:STANDARD
END:VTIMEZONE
BEGIN:VEVENT
DTSTART;VALUE=DATE:20250814
DTEND;VALUE=DATE:20250828
DTSTAMP:20260425T233900
CREATED:20251216T085433Z
LAST-MODIFIED:20251222T151414Z
UID:10000037-1755129600-1756339199@developmentminerals.org
SUMMARY:Equipping the New Generation of Miners in Uganda
DESCRIPTION:[vc_row][vc_column][vc_separator sep_color=”color-210407″ uncode_shortcode_id=”488145″ sep_color_type=”uncode-palette”][uncode_custom_fields post_type=”tribe_venue” field_elements=”value”][vc_column_text]The growth of mining requires people to work in mining. At the same time\, youth need to acquire employable skills\, as many struggle after graduation – and before becoming employed. In Uganda\, 180 young people (115 men and 65 women) participated in a series of trainings to improve their business and job skills in the mining sector. \nGroup photo of training participants at Kabale University. In the picture are Mr. Humphrey Asiimwe\, CEO of Uganda Chamber of Energy and Minerals\, and Mr. Michael Musinguzi from Q-Sourcing – a human resource development company\, among others.                                                                                                      Photo credit: UNDP Uganda\nThe sessions\, held at Kabale\, Gulu\, and Busitema universities in August 2025\, taught financial literacy\, business planning\, formalization\, and sustainable mining. Participants included students\, young entrepreneurs\, and miners. The youth will continue to receive mentorship and business support through Uganda’s Chamber of Energy and Minerals\, helping them create jobs and promote innovation in Uganda’s mining sector.  \nThese trainings were organized by the ACP-EU Development Minerals Programme implemented by UNDP\, together with the Ministry of Energy and Mineral Development and the Uganda Chamber of Energy and Minerals. [/vc_column_text][/vc_column][/vc_row]
URL:https://developmentminerals.org/event/equipping-the-new-generation-of-miners-in-uganda/
LOCATION:Kabale – Gulu – Busitema\, Uganda
CATEGORIES:Uganda
ATTACH;FMTTYPE=image/jpeg:https://developmentminerals.org/wp-content/uploads/2025/12/14-1-scaled.jpg
END:VEVENT
BEGIN:VEVENT
DTSTART;VALUE=DATE:20241025
DTEND;VALUE=DATE:20241026
DTSTAMP:20260425T233900
CREATED:20250319T094033Z
LAST-MODIFIED:20250507T133717Z
UID:10000005-1729814400-1729900799@developmentminerals.org
SUMMARY:Dialogue on De-risking Financing for ASMEs in Development Minerals
DESCRIPTION:[vc_row row_height_percent=”0″ overlay_alpha=”50″ gutter_size=”3″ column_width_percent=”100″ shift_y=”0″ z_index=”0″ content_parallax=”0″ uncode_shortcode_id=”133335″][vc_column column_width_percent=”100″ gutter_size=”2″ overlay_alpha=”50″ shift_x=”0″ shift_y=”0″ shift_y_down=”0″ z_index=”0″ medium_width=”0″ mobile_width=”0″ uncode_shortcode_id=”196016″][vc_separator sep_color=”color-210407″ uncode_shortcode_id=”488145″ sep_color_type=”uncode-palette”][uncode_custom_fields post_type=”tribe_events” field_elements=”value”][vc_empty_space][/vc_column][/vc_row][vc_row][vc_column column_width_percent=”100″ gutter_size=”3″ overlay_alpha=”50″ shift_x=”0″ shift_y=”0″ shift_y_down=”0″ z_index=”0″ medium_width=”0″ mobile_width=”0″ width=”1/1″ uncode_shortcode_id=”175217″][vc_single_image media=”147222″ caption=”yes” media_width_percent=”100″ alignment=”center” uncode_shortcode_id=”136505″][vc_column_text uncode_shortcode_id=”165281″]Artisanal miners encounter challenges in securing funding: as they operate informally and are involved in a sector often perceived as high-risk. However\, access to finance is crucial for artisanal miners to transition from subsistence-level operations to more responsible and productive mining practices and engage in value-adding activities. In October 2024\, the ACP-EU Development Minerals Programme  hosted a dialogue on de-risking financing for Development Minerals value chains in Uganda. With over 40 participants from the public and private sectors\, the event secured government commitments to create financial products suitable for artisanal miners and support cooperative registration to enhance access to finance\, and guidance from banks for ASMEs to adopt ESG (Environmental\, Social and Governance Standards) compliance for funding eligibility. Key stakeholders included UNDP\, the Ministry of Energy and Mineral Development\, and the Uganda Chamber of Mines and Petroleum.[/vc_column_text][/vc_column][/vc_row]
URL:https://developmentminerals.org/event/dialogue-on-de-risking-financing-for-asmes-in-development-minerals-2/
LOCATION:Kampala\, Uganda\, Uganda
CATEGORIES:Uganda
ATTACH;FMTTYPE=image/jpeg:https://developmentminerals.org/wp-content/uploads/2025/03/Dialogue-on-De-risking-Financing-for-ASMEs-s.jpg
END:VEVENT
END:VCALENDAR