BEGIN:VCALENDAR
VERSION:2.0
PRODID:-//ACP-EU Development Minerals Programme - ECPv6.11.2.1//NONSGML v1.0//EN
CALSCALE:GREGORIAN
METHOD:PUBLISH
X-ORIGINAL-URL:https://developmentminerals.org
X-WR-CALDESC:Events for ACP-EU Development Minerals Programme
REFRESH-INTERVAL;VALUE=DURATION:PT1H
X-Robots-Tag:noindex
X-PUBLISHED-TTL:PT1H
BEGIN:VTIMEZONE
TZID:UTC
BEGIN:STANDARD
TZOFFSETFROM:+0000
TZOFFSETTO:+0000
TZNAME:UTC
DTSTART:20240101T000000
END:STANDARD
END:VTIMEZONE
BEGIN:VEVENT
DTSTART;VALUE=DATE:20241202
DTEND;VALUE=DATE:20241208
DTSTAMP:20260425T233613
CREATED:20250331T103954Z
LAST-MODIFIED:20250618T134848Z
UID:10000006-1733097600-1733615999@developmentminerals.org
SUMMARY:Training in Production of Stabilized Earth Bricks in Dschang\, Cameroon
DESCRIPTION:[vc_row row_height_percent=”0″ overlay_alpha=”50″ gutter_size=”3″ column_width_percent=”100″ shift_y=”0″ z_index=”0″ content_parallax=”0″ uncode_shortcode_id=”133335″][vc_column column_width_percent=”100″ gutter_size=”2″ overlay_alpha=”50″ shift_x=”0″ shift_y=”0″ shift_y_down=”0″ z_index=”0″ medium_width=”0″ mobile_width=”0″ uncode_shortcode_id=”196016″][vc_separator sep_color=”color-210407″ uncode_shortcode_id=”488145″ sep_color_type=”uncode-palette”][uncode_custom_fields post_type=”tribe_events” field_elements=”value”][vc_empty_space][/vc_column][/vc_row][vc_row][vc_column column_width_percent=”100″ gutter_size=”3″ overlay_alpha=”50″ shift_x=”0″ shift_y=”0″ shift_y_down=”0″ z_index=”0″ medium_width=”0″ mobile_width=”0″ width=”1/1″ uncode_shortcode_id=”175217″][vc_single_image media=”147761″ caption=”yes” media_width_percent=”100″ alignment=”center” uncode_shortcode_id=”211959″][vc_column_text uncode_shortcode_id=”210454″]In December 2024\, the city of Dschang hosted a training workshop for internally displaced persons from the Northwest region\, which is in the grip of the security crisis\, and host populations. The workshop participants learned how to produce eco-materials—compressed stabilized earth bricks.  \nOrganized by the Programme in partnership with the University of Dschang and the Institute of Fine Arts in Foumban\, the workshop trained 50 young men and women in using Development Minerals in sustainable building practices. The training included theoretical sessions at the University of Dschang and practical activities at a pilot site\, covering topics such as environmental safety in mining\, compressed earth bricks production\, eco-material techniques\, and entrepreneurship. A qualified team of experts\, led by Dr. Moussa Charlot\, provided instruction\, contributing to the implementation of a continuing education programme in Development Minerals in Cameroon.[/vc_column_text][/vc_column][/vc_row]
URL:https://developmentminerals.org/event/training-in-production-of-stabilized-earth-bricks-in-dschang-cameroon/
LOCATION:Dschang\, Commune of Menoua\, West region\, Cameroon
ATTACH;FMTTYPE=image/jpeg:https://developmentminerals.org/wp-content/uploads/2025/03/Compress-Earth-Brick-IDPs-training-Dschang-15-scaled.jpg
END:VEVENT
END:VCALENDAR