BEGIN:VCALENDAR
VERSION:2.0
PRODID:-//ACP-EU Development Minerals Programme - ECPv6.11.2.1//NONSGML v1.0//EN
CALSCALE:GREGORIAN
METHOD:PUBLISH
X-WR-CALNAME:ACP-EU Development Minerals Programme
X-ORIGINAL-URL:https://developmentminerals.org
X-WR-CALDESC:Events for ACP-EU Development Minerals Programme
REFRESH-INTERVAL;VALUE=DURATION:PT1H
X-Robots-Tag:noindex
X-PUBLISHED-TTL:PT1H
BEGIN:VTIMEZONE
TZID:UTC
BEGIN:STANDARD
TZOFFSETFROM:+0000
TZOFFSETTO:+0000
TZNAME:UTC
DTSTART:20240101T000000
END:STANDARD
END:VTIMEZONE
BEGIN:VEVENT
DTSTART;VALUE=DATE:20240415
DTEND;VALUE=DATE:20240418
DTSTAMP:20260425T235031
CREATED:20250528T084448Z
LAST-MODIFIED:20260209T151450Z
UID:10000015-1713139200-1713398399@developmentminerals.org
SUMMARY:Forum on Sustainable and Inclusive Mineral Value Chains\, South-South Cooperation and Knowledge Sharing
DESCRIPTION:[vc_row row_height_percent=”0″ overlay_alpha=”50″ gutter_size=”3″ column_width_percent=”100″ shift_y=”0″ z_index=”0″ content_parallax=”0″ uncode_shortcode_id=”133335″][vc_column column_width_percent=”100″ gutter_size=”2″ overlay_alpha=”50″ shift_x=”0″ shift_y=”0″ shift_y_down=”0″ z_index=”0″ medium_width=”0″ mobile_width=”0″ uncode_shortcode_id=”196016″][vc_separator sep_color=”color-210407″ uncode_shortcode_id=”488145″ sep_color_type=”uncode-palette”][uncode_custom_fields post_type=”tribe_events” field_elements=”value”][vc_empty_space][/vc_column][/vc_row][vc_row][vc_column column_width_percent=”100″ gutter_size=”3″ overlay_alpha=”50″ shift_x=”0″ shift_y=”0″ shift_y_down=”0″ z_index=”0″ medium_width=”0″ mobile_width=”0″ width=”1/1″ uncode_shortcode_id=”175217″][vc_single_image media=”150177″ caption=”yes” media_width_percent=”100″ alignment=”center” uncode_shortcode_id=”177994″][vc_column_text uncode_shortcode_id=”134948″]The international Forum on Sustainable and Inclusive Mineral Value Chains addressed the importance of enhancing artisanal and small-scale mining (ASM) practices\, specifically focusing on Development Minerals which support livelihoods in numerous countries. Organized by the ACP-EU Development Minerals Programme\, implemented by the United Nations Development Programme\, and hosted by the Government of Zambia\, the forum brought together over 140 participants from 30 countries.    \nThe forum enabled knowledge exchange among various stakeholders\, including government representatives\, UNDP country office representatives\, environmental agencies\, ASM associations\, mining enterprises\, chambers of mines\, international organizations\, NGOs\, academic institutions\, and private sector entities. Key topics included sustainable ASM practices\, governance tools\, ASM and large-scale mining linkages\, value-addition innovations\, digital market integration\, mineral information management\, and the role of critical minerals in clean energy transition.    \nThe outcomes of the forum included knowledge sharing\, innovation exchange\, policy advocacy\, and networking to foster collaboration and advance sustainable and inclusive mineral value chains. [/vc_column_text][vc_gallery el_id=”gallery-438232″ type=”carousel” medias=”150178\,150191\,150190\,150189\,150188\,150187\,150186\,150185\,150184\,150183\,150182\,150181\,150180\,150179\,150192″ carousel_lg=”5″ carousel_md=”3″ carousel_sm=”1″ gutter_size=”2″ media_items=”media|lightbox|original” carousel_v_align=”middle” carousel_interval=”0″ carousel_navspeed=”400″ carousel_nav=”yes” carousel_nav_mobile=”yes” carousel_dots=”yes” stage_padding=”0″ single_overlay_opacity=”50″ single_image_anim=”no” single_h_align=”center” single_padding=”2″ single_icon=”fa fa-plus2″ single_border=”yes” lbox_gallery_arrows_bg=”semi-transparent” lbox_caption=”yes” lbox_social=”yes” lbox_deep=”yes” lbox_no_tmb=”yes” no_double_tap=”yes” items=”e30=” uncode_shortcode_id=”102574″][/vc_column][/vc_row]
URL:https://developmentminerals.org/event/forum-on-sustainable-and-inclusive-mineral-value-chains-south-south-cooperation-and-knowledge-sharing/
LOCATION:Lusaka\, Zambia
CATEGORIES:Zambia
ATTACH;FMTTYPE=image/jpeg:https://developmentminerals.org/wp-content/uploads/2025/05/IMG_8771-Copy-scaled.jpg
END:VEVENT
BEGIN:VEVENT
DTSTART;VALUE=DATE:20240415
DTEND;VALUE=DATE:20240418
DTSTAMP:20260425T235031
CREATED:20250528T090114Z
LAST-MODIFIED:20250613T223713Z
UID:10000016-1713139200-1713398399@developmentminerals.org
SUMMARY:Exhibition of Development Minerals
DESCRIPTION:[vc_row row_height_percent=”0″ overlay_alpha=”50″ gutter_size=”3″ column_width_percent=”100″ shift_y=”0″ z_index=”0″ content_parallax=”0″ uncode_shortcode_id=”133335″][vc_column column_width_percent=”100″ gutter_size=”2″ overlay_alpha=”50″ shift_x=”0″ shift_y=”0″ shift_y_down=”0″ z_index=”0″ medium_width=”0″ mobile_width=”0″ uncode_shortcode_id=”196016″][vc_separator sep_color=”color-210407″ uncode_shortcode_id=”488145″ sep_color_type=”uncode-palette”][uncode_custom_fields post_type=”tribe_events” field_elements=”value”][vc_empty_space][/vc_column][/vc_row][vc_row][vc_column column_width_percent=”100″ gutter_size=”3″ overlay_alpha=”50″ shift_x=”0″ shift_y=”0″ shift_y_down=”0″ z_index=”0″ medium_width=”0″ mobile_width=”0″ width=”1/1″ uncode_shortcode_id=”175217″][vc_single_image media=”150200″ caption=”yes” media_width_percent=”100″ alignment=”center” uncode_shortcode_id=”793165″][vc_column_text uncode_shortcode_id=”192966″]Alongside the Forum on Sustainable and Inclusive Mineral Value Chains\, South-South Cooperation and Knowledge Sharing\, the ACP-EU Development Minerals Programme organized an exhibition on Development Minerals.  \nThe exhibition showcased products made from Development Minerals by ASM enterprises from several African\, Caribbean and Pacific countries\, demonstrating the impact of the ACP-EU Development Minerals Programme in promoting economic empowerment and job creation.[/vc_column_text][vc_gallery el_id=”gallery-181504″ type=”carousel” medias=”150201\,150202\,150203\,150204\,150882\,150881\,150880\,150879\,150878\,150877\,150876\,150875\,150874\,150873\,150872\,150871\,150870\,150869\,150867\,150866\,150865\,150864\,150863\,150862\,150861\,150860″ carousel_lg=”3″ carousel_md=”3″ carousel_sm=”1″ gutter_size=”3″ media_items=”media|lightbox|original\,icon\,caption” carousel_interval=”3000″ carousel_navspeed=”400″ carousel_nav=”yes” carousel_nav_mobile=”yes” stage_padding=”0″ single_overlay_opacity=”50″ single_padding=”2″ uncode_shortcode_id=”669246″][/vc_column][/vc_row]
URL:https://developmentminerals.org/event/exhibition-of-development-minerals/
LOCATION:Lusaka\, Zambia
CATEGORIES:Zambia
ATTACH;FMTTYPE=image/jpeg:https://developmentminerals.org/wp-content/uploads/2025/05/0_main-scaled.jpg
END:VEVENT
END:VCALENDAR