BEGIN:VCALENDAR
VERSION:2.0
PRODID:-//ACP-EU Development Minerals Programme - ECPv6.11.2.1//NONSGML v1.0//EN
CALSCALE:GREGORIAN
METHOD:PUBLISH
X-WR-CALNAME:ACP-EU Development Minerals Programme
X-ORIGINAL-URL:https://developmentminerals.org
X-WR-CALDESC:Events for ACP-EU Development Minerals Programme
REFRESH-INTERVAL;VALUE=DURATION:PT1H
X-Robots-Tag:noindex
X-PUBLISHED-TTL:PT1H
BEGIN:VTIMEZONE
TZID:UTC
BEGIN:STANDARD
TZOFFSETFROM:+0000
TZOFFSETTO:+0000
TZNAME:UTC
DTSTART:20250101T000000
END:STANDARD
END:VTIMEZONE
BEGIN:VEVENT
DTSTART;VALUE=DATE:20250513
DTEND;VALUE=DATE:20250705
DTSTAMP:20260425T233933
CREATED:20251217T143747Z
LAST-MODIFIED:20251222T151634Z
UID:10000041-1747094400-1751673599@developmentminerals.org
SUMMARY:Environmental\, Health\, and Safety Compliance Training for Sustainable Mining in Tanzania 
DESCRIPTION:[vc_row][vc_column][vc_separator sep_color=”color-210407″ uncode_shortcode_id=”488145″ sep_color_type=”uncode-palette”][uncode_custom_fields post_type=”tribe_venue” field_elements=”value”][vc_column_text]In Tanzania\, the ACP-EU Development Minerals Programme worked with the Foundation for ASM Development (FADev) and the Mining Commission to train miners on health\, safety\, and environmental practices. Trainings took place between May and July 2025 in the mining areas of Singida\, Dodoma\, Morogoro\, and Tanga regions. Over 380 artisanal miners took part\, of whom 53% are women. \n  \nMr. Chacha Megewa (right)\, together with experts from the Mining Commission and the ACP–EU Development Minerals Programme\, delivered on-site health and safety training for artisanal and small-scale miners in Dodoma. Photo credit: UNDP Tanzania\nThe aim was to promote safer and more sustainable mining by building local capacity and sharing practical knowledge. The results of the trainings were both immediate and impactful\, as participants gained hands-on skills in proper safety procedures\, correct use of personal protective equipment\, and basic first-aid practices. \nIn this regard\, the importance of the training extended beyond transfer of knowledge by demonstrating the importance of joint efforts between miners\, communities\, and authorities to improve mining practices by uniting the programme\, the Mining Commission and a local NGO (FADev) hence bridging the gap between policy\, enforcement and on-the-ground reality fostering trust and shared language around sustainability. \nSecond\, the deliberate inclusion of women – who often bear the highest health risks in ASM while having the least access to training – directly tackles gender inequality and empowers women as agents of change within their mining communities. Finally\, by building local capacity\, the programme seeds a self-replicating model of best practices\, where trained miners become peer educators\, enhancing the resilience and productivity of the sector long-term. \nThis initiative highlights that improving artisanal mining is not merely a technical challenge\, but a socio-economic one. It demonstrates that sustained joint efforts between miners\, communities\, and authorities are essential for transforming mining practices\, safeguarding both human dignity and the environment\, and ensuring the sector’s viability as a source of livelihood for generations to come. \n[/vc_column_text][/vc_column][/vc_row]
URL:https://developmentminerals.org/event/environmental-health-and-safety-compliance-training-for-sustainable-mining-in-tanzania/
LOCATION:Singida – Dodoma – Morogoro – Tanga\, Tanzania
CATEGORIES:Tanzania
ATTACH;FMTTYPE=image/png:https://developmentminerals.org/wp-content/uploads/2025/12/Cover-photo-.png
END:VEVENT
END:VCALENDAR